BEGIN:VCALENDAR
VERSION:2.0
PRODID:-//eventon.com NONSGML v1.0//EN
CALSCALE:GREGORIAN
METHOD:PUBLISH
BEGIN:VEVENT
UID:69ebd5255a98a
DTSTAMP:20260424T204005Z
DTSTART:20210227
DTEND:20210228
LOCATION:Echternach (L)
SUMMARY:2eme manche carabine challenge « armes à air 2021»
DESCRIPTION:2eme manche carabine challenge « armes à air 2021»\nhttps://
 www.fltas.lu/events/2eme-manche-carabine-challenge-armes-a-air-2021-copy/
URL:https://www.fltas.lu/events/2eme-manche-carabine-challenge-armes-a-air-2021-copy/
END:VEVENT
END:VCALENDAR