BEGIN:VCALENDAR
VERSION:2.0
PRODID:-//eventon.com NONSGML v1.0//EN
CALSCALE:GREGORIAN
METHOD:PUBLISH
BEGIN:VEVENT
UID:69ebc0788e6a6
DTSTAMP:20260424T191152Z
DTSTART:20210306
DTEND:20210307
LOCATION:Schifflange (L)
SUMMARY:3eme manche carabine challenge « armes à air 2021»
DESCRIPTION:3eme manche carabine challenge « armes à air 2021»\nhttps://
 www.fltas.lu/events/3eme-manche-carabine-challenge-armes-a-air-2021-copy-co
 py/
URL:https://www.fltas.lu/events/3eme-manche-carabine-challenge-armes-a-air-2021-copy-copy/
END:VEVENT
END:VCALENDAR