BEGIN:VCALENDAR
VERSION:2.0
PRODID:-//eventon.com NONSGML v1.0//EN
CALSCALE:GREGORIAN
METHOD:PUBLISH
BEGIN:VEVENT
UID:69ebd56ccfca7
DTSTAMP:20260424T204116Z
DTSTART:20210320
DTEND:20210321
LOCATION:Hesperange (L)
SUMMARY:4eme manche carabine challenge « armes à air 2021»
DESCRIPTION:4eme manche carabine challenge « armes à air 2021»\nhttps://
 www.fltas.lu/events/4me-manche-carabine-challenge-armes-a-air-2021/
URL:https://www.fltas.lu/events/4me-manche-carabine-challenge-armes-a-air-2021/
END:VEVENT
END:VCALENDAR