BEGIN:VCALENDAR
VERSION:2.0
PRODID:-//eventon.com NONSGML v1.0//EN
CALSCALE:GREGORIAN
METHOD:PUBLISH
BEGIN:VEVENT
UID:69ebc52024a4d
DTSTAMP:20260424T193144Z
DTSTART:20210206
DTEND:20210207
LOCATION:Kayl (L)
SUMMARY:1ere manche pistolet challenge « armes à air 2021»
DESCRIPTION:1ere manche pistolet challenge « armes à air 2021»\nhttps://
 www.fltas.lu/events/1ere-manche-pistolet-challenge-armes-a-air-2021/
URL:https://www.fltas.lu/events/1ere-manche-pistolet-challenge-armes-a-air-2021/
END:VEVENT
END:VCALENDAR