BEGIN:VCALENDAR
VERSION:2.0
PRODID:-//eventon.com NONSGML v1.0//EN
CALSCALE:GREGORIAN
METHOD:PUBLISH
BEGIN:VEVENT
UID:69ebc658b3ee6
DTSTAMP:20260424T193656Z
DTSTART:20210220
DTEND:20210221
LOCATION:Hesper (L)
SUMMARY:2eme manche pistolet challenge « armes à air 2021»
DESCRIPTION:2eme manche pistolet challenge « armes à air 2021»\nhttps://
 www.fltas.lu/events/2eme-manche-pistolet-challenge-armes-a-air-2021/
URL:https://www.fltas.lu/events/2eme-manche-pistolet-challenge-armes-a-air-2021/
END:VEVENT
END:VCALENDAR