BEGIN:VCALENDAR
VERSION:2.0
PRODID:-//eventon.com NONSGML v1.0//EN
CALSCALE:GREGORIAN
METHOD:PUBLISH
BEGIN:VEVENT
UID:69ebc5c021f3b
DTSTAMP:20260424T193424Z
DTSTART:20210313
DTEND:20210314
LOCATION:Brouch (L)
SUMMARY:4eme manche pistolet challenge « armes à air 2021»
DESCRIPTION:4eme manche pistolet challenge « armes à air 2021»\nhttps://
 www.fltas.lu/events/4eme-manche-pistolet-challenge-armes-a-air-2021/
URL:https://www.fltas.lu/events/4eme-manche-pistolet-challenge-armes-a-air-2021/
END:VEVENT
END:VCALENDAR