BEGIN:VCALENDAR
VERSION:2.0
PRODID:-//eventon.com NONSGML v1.0//EN
CALSCALE:GREGORIAN
METHOD:PUBLISH
BEGIN:VEVENT
UID:69ebc553531d1
DTSTAMP:20260424T193235Z
DTSTART:20210327
DTEND:20210328
LOCATION:Schifflange (L)
SUMMARY:5eme manche pistolet challenge « armes à air 2021»
DESCRIPTION:5eme manche pistolet challenge « armes à air 2021»\nhttps://
 www.fltas.lu/events/5eme-manche-pistolet-challenge-armes-a-air-2021/
URL:https://www.fltas.lu/events/5eme-manche-pistolet-challenge-armes-a-air-2021/
END:VEVENT
END:VCALENDAR