BEGIN:VCALENDAR
VERSION:2.0
PRODID:-//eventon.com NONSGML v1.0//EN
CALSCALE:GREGORIAN
METHOD:PUBLISH
BEGIN:VEVENT
UID:69ebc07a44fdf
DTSTAMP:20260424T191154Z
DTSTART:20210711
DTEND:20210712
LOCATION:Rumelange (L)
SUMMARY:CFI\,  CFE\,  Compak
DESCRIPTION:CFI\,  CFE\,  Compak\nhttps://www.fltas.lu/events/cfi-cfe-compa
 k-2/
URL:https://www.fltas.lu/events/cfi-cfe-compak-2/
END:VEVENT
END:VCALENDAR