BEGIN:VCALENDAR
VERSION:2.0
PRODID:-//eventon.com NONSGML v1.0//EN
CALSCALE:GREGORIAN
METHOD:PUBLISH
BEGIN:VEVENT
UID:69ebbf14c98a4
DTSTAMP:20260424T190556Z
DTSTART:20210703
DTEND:20210704
LOCATION:Echternach (L)
SUMMARY:CNI\,  CFI\,  Skeet
DESCRIPTION:CNI\,  CFI\,  Skeet\nhttps://www.fltas.lu/events/cni-cfi-skeet/
URL:https://www.fltas.lu/events/cni-cfi-skeet/
END:VEVENT
END:VCALENDAR