BEGIN:VCALENDAR
VERSION:2.0
PRODID:-//eventon.com NONSGML v1.0//EN
CALSCALE:GREGORIAN
METHOD:PUBLISH
BEGIN:VEVENT
UID:69ebc75e6ac13
DTSTAMP:20260424T194118Z
DTSTART:20211208
DTEND:20211209
LOCATION:
SUMMARY:RIAC 2021
DESCRIPTION:Organisateur: FLTAS\nhttps://www.fltas.lu/events/riac-2021/
URL:https://www.fltas.lu/events/riac-2021/
END:VEVENT
END:VCALENDAR