BEGIN:VCALENDAR
VERSION:2.0
PRODID:-//eventon.com NONSGML v1.0//EN
CALSCALE:GREGORIAN
METHOD:PUBLISH
BEGIN:VEVENT
UID:69ebd9c0e4f04
DTSTAMP:20260424T205944Z
DTSTART:20211201T183000Z
DTEND:20211201T183000Z
LOCATION:Diekirch
SUMMARY:Armee 1 - Brouch 1
DESCRIPTION:Armee 1 - Brouch 1\nhttps://www.fltas.lu/events/armee-1-brouch-
 1-2/
URL:https://www.fltas.lu/events/armee-1-brouch-1-2/
END:VEVENT
END:VCALENDAR