BEGIN:VCALENDAR
VERSION:2.0
PRODID:-//eventon.com NONSGML v1.0//EN
CALSCALE:GREGORIAN
METHOD:PUBLISH
BEGIN:VEVENT
UID:69ebed72d4ccb
DTSTAMP:20260424T222346Z
DTSTART:20211201T183000Z
DTEND:20211201T183000Z
LOCATION:Hesper
SUMMARY:Hesper 1 - Kayl 1
DESCRIPTION:Hesper 1 - Kayl 1\nhttps://www.fltas.lu/events/hesper-1-kayl-1/
URL:https://www.fltas.lu/events/hesper-1-kayl-1/
END:VEVENT
END:VCALENDAR