BEGIN:VCALENDAR
VERSION:2.0
PRODID:-//eventon.com NONSGML v1.0//EN
CALSCALE:GREGORIAN
METHOD:PUBLISH
BEGIN:VEVENT
UID:69ec008d88c34
DTSTAMP:20260424T234517Z
DTSTART:20211201T183000Z
DTEND:20211201T183000Z
LOCATION:Kayl
SUMMARY:Mondercange - Kayl 2
DESCRIPTION:Mondercange - Kayl 2\nhttps://www.fltas.lu/events/mondercange-k
 ayl-2/
URL:https://www.fltas.lu/events/mondercange-kayl-2/
END:VEVENT
END:VCALENDAR