BEGIN:VCALENDAR
VERSION:2.0
PRODID:-//eventon.com NONSGML v1.0//EN
CALSCALE:GREGORIAN
METHOD:PUBLISH
BEGIN:VEVENT
UID:69ec13be43076
DTSTAMP:20260425T010710Z
DTSTART:20211201T183000Z
DTEND:20211201T183000Z
LOCATION:Stass
SUMMARY:Stass 1 - Hesper 2
DESCRIPTION:Stass 1 - Hesper 2\nhttps://www.fltas.lu/events/stass-1-hesper-
 2-2/
URL:https://www.fltas.lu/events/stass-1-hesper-2-2/
END:VEVENT
END:VCALENDAR