BEGIN:VCALENDAR
VERSION:2.0
PRODID:-//eventon.com NONSGML v1.0//EN
CALSCALE:GREGORIAN
METHOD:PUBLISH
BEGIN:VEVENT
UID:69ec27df02bd7
DTSTAMP:20260425T023303Z
DTSTART:20211201T183000Z
DTEND:20211201T183000Z
LOCATION:Echternach
SUMMARY:Echternach - Kayl 3
DESCRIPTION:Echternach - Kayl 3\nhttps://www.fltas.lu/events/echternach-kay
 l-3/
URL:https://www.fltas.lu/events/echternach-kayl-3/
END:VEVENT
END:VCALENDAR