BEGIN:VCALENDAR
VERSION:2.0
PRODID:-//eventon.com NONSGML v1.0//EN
CALSCALE:GREGORIAN
METHOD:PUBLISH
BEGIN:VEVENT
UID:69ec3e2edd32c
DTSTAMP:20260425T040814Z
DTSTART:20211202T183000Z
DTEND:20211202T183000Z
LOCATION:Stass
SUMMARY:Stass 2 - Brouch 2
DESCRIPTION:Stass 2 - Brouch 2\nhttps://www.fltas.lu/events/stass-2-brouch-
 2/
URL:https://www.fltas.lu/events/stass-2-brouch-2/
END:VEVENT
END:VCALENDAR