BEGIN:VCALENDAR
VERSION:2.0
PRODID:-//eventon.com NONSGML v1.0//EN
CALSCALE:GREGORIAN
METHOD:PUBLISH
BEGIN:VEVENT
UID:69ec99040309a
DTSTAMP:20260425T103548Z
DTSTART:20220105T183000Z
DTEND:20220105T183000Z
LOCATION:Stass
SUMMARY:Stass 1 - Mondercange
DESCRIPTION:Stass 1 - Mondercange\nhttps://www.fltas.lu/events/stass-1-mond
 ercange/
URL:https://www.fltas.lu/events/stass-1-mondercange/
END:VEVENT
END:VCALENDAR