BEGIN:VCALENDAR
VERSION:2.0
PRODID:-//eventon.com NONSGML v1.0//EN
CALSCALE:GREGORIAN
METHOD:PUBLISH
BEGIN:VEVENT
UID:69ecaf795bfd7
DTSTAMP:20260425T121137Z
DTSTART:20220106T183000Z
DTEND:20220106T183000Z
LOCATION:Brouch
SUMMARY:Brouch 2 - Echternach
DESCRIPTION:Brouch 2 - Echternach\nhttps://www.fltas.lu/events/brouch-2-ech
 ternach/
URL:https://www.fltas.lu/events/brouch-2-echternach/
END:VEVENT
END:VCALENDAR