BEGIN:VCALENDAR
VERSION:2.0
PRODID:-//eventon.com NONSGML v1.0//EN
CALSCALE:GREGORIAN
METHOD:PUBLISH
BEGIN:VEVENT
UID:69ecc50f50f68
DTSTAMP:20260425T134343Z
DTSTART:20220106T183000Z
DTEND:20220106T183000Z
LOCATION:Hesper
SUMMARY:Hesper 4 - Stass 2
DESCRIPTION:Hesper 4 - Stass 2\nhttps://www.fltas.lu/events/hesper-4-stass-
 2-3/
URL:https://www.fltas.lu/events/hesper-4-stass-2-3/
END:VEVENT
END:VCALENDAR