BEGIN:VCALENDAR
VERSION:2.0
PRODID:-//eventon.com NONSGML v1.0//EN
CALSCALE:GREGORIAN
METHOD:PUBLISH
BEGIN:VEVENT
UID:69ecdcdc857fc
DTSTAMP:20260425T152516Z
DTSTART:20220112T183000Z
DTEND:20220112T183000Z
LOCATION:Hesper
SUMMARY:Hesper 2 - Stass 1
DESCRIPTION:Hesper 2 - Stass 1\nhttps://www.fltas.lu/events/hesper-2-stass-
 1/
URL:https://www.fltas.lu/events/hesper-2-stass-1/
END:VEVENT
END:VCALENDAR