BEGIN:VCALENDAR
VERSION:2.0
PRODID:-//eventon.com NONSGML v1.0//EN
CALSCALE:GREGORIAN
METHOD:PUBLISH
BEGIN:VEVENT
UID:69ecf38bf1a89
DTSTAMP:20260425T170203Z
DTSTART:20220112T183000Z
DTEND:20220112T183000Z
LOCATION:Kayl
SUMMARY:Kayl 2 - Hesper 3
DESCRIPTION:Kayl 2 - Hesper 3\nhttps://www.fltas.lu/events/kayl-2-hesper-3-
 2/
URL:https://www.fltas.lu/events/kayl-2-hesper-3-2/
END:VEVENT
END:VCALENDAR