BEGIN:VCALENDAR
VERSION:2.0
PRODID:-//eventon.com NONSGML v1.0//EN
CALSCALE:GREGORIAN
METHOD:PUBLISH
BEGIN:VEVENT
UID:69ed08ce317ab
DTSTAMP:20260425T183246Z
DTSTART:20220112T183000Z
DTEND:20220112T183000Z
LOCATION:Kayl
SUMMARY:Kayl 3 - Echternach
DESCRIPTION:Kayl 3 - Echternach\nhttps://www.fltas.lu/events/kayl-3-echtern
 ach/
URL:https://www.fltas.lu/events/kayl-3-echternach/
END:VEVENT
END:VCALENDAR