BEGIN:VCALENDAR
VERSION:2.0
PRODID:-//eventon.com NONSGML v1.0//EN
CALSCALE:GREGORIAN
METHOD:PUBLISH
BEGIN:VEVENT
UID:69ed209b05af6
DTSTAMP:20260425T201419Z
DTSTART:20220113T183000Z
DTEND:20220113T183000Z
LOCATION:Brouch
SUMMARY:Brouch 2 - Hesper 4
DESCRIPTION:Brouch 2 - Hesper 4\nhttps://www.fltas.lu/events/brouch-2-hespe
 r-4/
URL:https://www.fltas.lu/events/brouch-2-hesper-4/
END:VEVENT
END:VCALENDAR