BEGIN:VCALENDAR
VERSION:2.0
PRODID:-//eventon.com NONSGML v1.0//EN
CALSCALE:GREGORIAN
METHOD:PUBLISH
BEGIN:VEVENT
UID:69ed3735a9c9d
DTSTAMP:20260425T215045Z
DTSTART:20220119T183000Z
DTEND:20220119T183000Z
LOCATION:Hesper
SUMMARY:Hesper 2 - Mondercange
DESCRIPTION:Hesper 2 - Mondercange\nhttps://www.fltas.lu/events/hesper-2-mo
 ndercange/
URL:https://www.fltas.lu/events/hesper-2-mondercange/
END:VEVENT
END:VCALENDAR