BEGIN:VCALENDAR
VERSION:2.0
PRODID:-//eventon.com NONSGML v1.0//EN
CALSCALE:GREGORIAN
METHOD:PUBLISH
BEGIN:VEVENT
UID:69ed800a801dd
DTSTAMP:20260426T030130Z
DTSTART:20220120T183000Z
DTEND:20220120T183000Z
LOCATION:Brouch
SUMMARY:Brouch 2 - Stass 2
DESCRIPTION:Brouch 2 - Stass 2\nhttps://www.fltas.lu/events/brouch-2-stass-
 2/
URL:https://www.fltas.lu/events/brouch-2-stass-2/
END:VEVENT
END:VCALENDAR