BEGIN:VCALENDAR
VERSION:2.0
PRODID:-//eventon.com NONSGML v1.0//EN
CALSCALE:GREGORIAN
METHOD:PUBLISH
BEGIN:VEVENT
UID:69ed93248da29
DTSTAMP:20260426T042300Z
DTSTART:20220126T183000Z
DTEND:20220126T183000Z
LOCATION:Kayl
SUMMARY:Kayl 1 - SAS
DESCRIPTION:Kayl 1 - SAS\nhttps://www.fltas.lu/events/kayl-1-sas/
URL:https://www.fltas.lu/events/kayl-1-sas/
END:VEVENT
END:VCALENDAR